BEGIN:VCALENDAR
VERSION:2.0
PRODID:spatie/icalendar-generator
DESCRIPTION:Events from Villa Tatutina
X-WR-CALDESC:Events from Villa Tatutina
REFRESH-INTERVAL;VALUE=DURATION:PT1440M
X-PUBLISHED-TTL:PT1440M
BEGIN:VTIMEZONE
TZID:Etc/GMT+0
BEGIN:STANDARD
DTSTART:20230815T000000Z
TZOFFSETFROM:+0000
TZOFFSETTO:+0000
END:STANDARD
END:VTIMEZONE
BEGIN:VTIMEZONE
TZID:UTC
BEGIN:STANDARD
DTSTART:20250727T083414Z
TZOFFSETFROM:+0000
TZOFFSETTO:+0000
END:STANDARD
END:VTIMEZONE
BEGIN:VEVENT
UID:74-43
DTSTAMP:20260423T083414Z
SUMMARY:Dates Booked
LOCATION:Villa Tatutina 6 Pelican Shores Road  Marsh Harbour\, The Bahamas
ORGANIZER;CN=Angela Musillo:MAILTO:a_musillo@brayman.com
DTSTART;TZID=Etc/GMT+0:20240511T000000
DTEND;TZID=Etc/GMT+0:20240518T010000
X-ALT-DESC;FMTTYPE=TEXT/HTML:
CATEGORIES:Dates Booked
URL;VALUE=URI:https://tatutinallc.com/mc-events/dates-booked-23/
METHOD:PUBLISH
END:VEVENT
END:VCALENDAR